BEGIN:VCALENDAR
VERSION:2.0
PRODID:-//Pusat Kesihatan Universiti - ECPv4.6.20.1//NONSGML v1.0//EN
CALSCALE:GREGORIAN
METHOD:PUBLISH
X-WR-CALNAME:Pusat Kesihatan Universiti
X-ORIGINAL-URL:https://pku.usim.edu.my
X-WR-CALDESC:Events for Pusat Kesihatan Universiti
BEGIN:VEVENT
DTSTART;TZID=Asia/Kuala_Lumpur:20190222T080000
DTEND;TZID=Asia/Kuala_Lumpur:20190224T170000
DTSTAMP:20260419T142917
CREATED:20190214T022534Z
LAST-MODIFIED:20190214T022611Z
UID:4352-1550822400-1551027600@pku.usim.edu.my
SUMMARY:Komuniti Sayangi Alam Sekitar (KOMSAS) SIRI 1
DESCRIPTION:
URL:https://pku.usim.edu.my/kalendar/komuniti-sayangi-alam-sekitar-komsas-siri-1/
LOCATION:Thailand
GEO:15.870032;100.992541
END:VEVENT
END:VCALENDAR